BEGIN:VCALENDAR
VERSION:2.0
PRODID:-//Tuin de Es - ECPv6.15.17.1//NONSGML v1.0//EN
CALSCALE:GREGORIAN
METHOD:PUBLISH
X-WR-CALNAME:Tuin de Es
X-ORIGINAL-URL:https://tuindees.nl
X-WR-CALDESC:Evenementen voor Tuin de Es
REFRESH-INTERVAL;VALUE=DURATION:PT1H
X-Robots-Tag:noindex
X-PUBLISHED-TTL:PT1H
BEGIN:VTIMEZONE
TZID:Europe/Amsterdam
BEGIN:DAYLIGHT
TZOFFSETFROM:+0100
TZOFFSETTO:+0200
TZNAME:CEST
DTSTART:20130331T010000
END:DAYLIGHT
BEGIN:STANDARD
TZOFFSETFROM:+0200
TZOFFSETTO:+0100
TZNAME:CET
DTSTART:20131027T010000
END:STANDARD
BEGIN:DAYLIGHT
TZOFFSETFROM:+0100
TZOFFSETTO:+0200
TZNAME:CEST
DTSTART:20140330T010000
END:DAYLIGHT
BEGIN:STANDARD
TZOFFSETFROM:+0200
TZOFFSETTO:+0100
TZNAME:CET
DTSTART:20141026T010000
END:STANDARD
BEGIN:DAYLIGHT
TZOFFSETFROM:+0100
TZOFFSETTO:+0200
TZNAME:CEST
DTSTART:20150329T010000
END:DAYLIGHT
BEGIN:STANDARD
TZOFFSETFROM:+0200
TZOFFSETTO:+0100
TZNAME:CET
DTSTART:20151025T010000
END:STANDARD
END:VTIMEZONE
BEGIN:VEVENT
DTSTART;TZID=Europe/Amsterdam:20140222T100000
DTEND;TZID=Europe/Amsterdam:20140222T160000
DTSTAMP:20260422T085221
CREATED:20140130T190131Z
LAST-MODIFIED:20140208T133901Z
UID:110-1393063200-1393084800@tuindees.nl
SUMMARY:meewerkdag
DESCRIPTION:Lekker de handen uit de mouwen in de tuin. Met een leuke groep mensen een klus oppakken en zo de tuin\, kas en erf nog mooier en leuker te maken. Natuurlijk met een lekkere lunch. Deze dag gaan we vooral de peren- en appelbomen snoeien. Wellicht kunnen we ook nog wat planten. Doe je mee? mail naar info@tuindees.nl
URL:https://tuindees.nl/evenement/meewerkdag/
LOCATION:Tuin de Es\, Eind 19c\, Haaren\, Noord-Brabant\, 5076 TD\, Nederland
END:VEVENT
BEGIN:VEVENT
DTSTART;TZID=Europe/Amsterdam:20140118T100000
DTEND;TZID=Europe/Amsterdam:20140118T130000
DTSTAMP:20260422T085221
CREATED:20140130T191138Z
LAST-MODIFIED:20140130T191138Z
UID:116-1390039200-1390050000@tuindees.nl
SUMMARY:Knotten
DESCRIPTION:Elk jaar komt de Knotploeg van LNMH ons helpen in het landschapsonderhoud. Zo houden we de houtwal een beetje in toom. Ieder jaar weer een gezellige meewerkdag!
URL:https://tuindees.nl/evenement/knotten/
LOCATION:Tuin de Es\, Eind 19c\, Haaren\, Noord-Brabant\, 5076 TD\, Nederland
END:VEVENT
END:VCALENDAR