BEGIN:VCALENDAR
VERSION:2.0
PRODID:-//Tuin de Es - ECPv6.15.17.1//NONSGML v1.0//EN
CALSCALE:GREGORIAN
METHOD:PUBLISH
X-WR-CALNAME:Tuin de Es
X-ORIGINAL-URL:https://tuindees.nl
X-WR-CALDESC:Evenementen voor Tuin de Es
REFRESH-INTERVAL;VALUE=DURATION:PT1H
X-Robots-Tag:noindex
X-PUBLISHED-TTL:PT1H
BEGIN:VTIMEZONE
TZID:Europe/Amsterdam
BEGIN:DAYLIGHT
TZOFFSETFROM:+0100
TZOFFSETTO:+0200
TZNAME:CEST
DTSTART:20180325T010000
END:DAYLIGHT
BEGIN:STANDARD
TZOFFSETFROM:+0200
TZOFFSETTO:+0100
TZNAME:CET
DTSTART:20181028T010000
END:STANDARD
BEGIN:DAYLIGHT
TZOFFSETFROM:+0100
TZOFFSETTO:+0200
TZNAME:CEST
DTSTART:20190331T010000
END:DAYLIGHT
BEGIN:STANDARD
TZOFFSETFROM:+0200
TZOFFSETTO:+0100
TZNAME:CET
DTSTART:20191027T010000
END:STANDARD
BEGIN:DAYLIGHT
TZOFFSETFROM:+0100
TZOFFSETTO:+0200
TZNAME:CEST
DTSTART:20200329T010000
END:DAYLIGHT
BEGIN:STANDARD
TZOFFSETFROM:+0200
TZOFFSETTO:+0100
TZNAME:CET
DTSTART:20201025T010000
END:STANDARD
END:VTIMEZONE
BEGIN:VEVENT
DTSTART;TZID=Europe/Amsterdam:20190720T170000
DTEND;TZID=Europe/Amsterdam:20190720T203000
DTSTAMP:20260421T124522
CREATED:20190224T202344Z
LAST-MODIFIED:20190416T144232Z
UID:2261-1563642000-1563654600@tuindees.nl
SUMMARY:Koken met de dochter van de tuinders
DESCRIPTION:Beproefd en toch nieuw concept op de tuinderij; Ronde over de tuinderij\, plukken wat we lekker vinden en aan de slag er mee in de keuken. Dit keer staat de keukenbrigade\, u dus\, onder leiding van Anne Luz Pijnenburg\, ja\, de dochter van. Zij heeft haar sporen verdiend in de duurzame horeca en kan fantastisch koken met groente. Schrijf je in\, doe mee en geniet van deze bijzondere avond.
URL:https://tuindees.nl/evenement/koken-met-de-dochter-van-de-tuinder/
LOCATION:Tuin de Es\, Eind 19c\, Haaren\, Noord-Brabant\, 5076 TD\, Nederland
END:VEVENT
END:VCALENDAR