BEGIN:VCALENDAR
VERSION:2.0
PRODID:-//Tuin de Es - ECPv6.15.17.1//NONSGML v1.0//EN
CALSCALE:GREGORIAN
METHOD:PUBLISH
X-ORIGINAL-URL:https://tuindees.nl
X-WR-CALDESC:Evenementen voor Tuin de Es
REFRESH-INTERVAL;VALUE=DURATION:PT1H
X-Robots-Tag:noindex
X-PUBLISHED-TTL:PT1H
BEGIN:VTIMEZONE
TZID:Europe/Amsterdam
BEGIN:DAYLIGHT
TZOFFSETFROM:+0100
TZOFFSETTO:+0200
TZNAME:CEST
DTSTART:20200329T010000
END:DAYLIGHT
BEGIN:STANDARD
TZOFFSETFROM:+0200
TZOFFSETTO:+0100
TZNAME:CET
DTSTART:20201025T010000
END:STANDARD
BEGIN:DAYLIGHT
TZOFFSETFROM:+0100
TZOFFSETTO:+0200
TZNAME:CEST
DTSTART:20210328T010000
END:DAYLIGHT
BEGIN:STANDARD
TZOFFSETFROM:+0200
TZOFFSETTO:+0100
TZNAME:CET
DTSTART:20211031T010000
END:STANDARD
BEGIN:DAYLIGHT
TZOFFSETFROM:+0100
TZOFFSETTO:+0200
TZNAME:CEST
DTSTART:20220327T010000
END:DAYLIGHT
BEGIN:STANDARD
TZOFFSETFROM:+0200
TZOFFSETTO:+0100
TZNAME:CET
DTSTART:20221030T010000
END:STANDARD
END:VTIMEZONE
BEGIN:VEVENT
DTSTART;VALUE=DATE:20210904
DTEND;VALUE=DATE:20210905
DTSTAMP:20260421T124634
CREATED:20210612T114758Z
LAST-MODIFIED:20210612T114758Z
UID:3677-1630713600-1630799999@tuindees.nl
SUMMARY:Workshop Maak het zelf met bijenwas
DESCRIPTION:cursus door Elselien Epema \nMaak je eigen verzorgende bodylotion\, geurkaarsen en beeswax-wraps
URL:https://tuindees.nl/evenement/workshop-maak-het-zelf-met-bijenwas/
LOCATION:Tuinderij de Es\, Eind 19c\, Haaren\, 5076TD\, Nederland
END:VEVENT
BEGIN:VEVENT
DTSTART;TZID=Europe/Amsterdam:20210904T100000
DTEND;TZID=Europe/Amsterdam:20210904T153000
DTSTAMP:20260421T124634
CREATED:20210821T110721Z
LAST-MODIFIED:20210821T110721Z
UID:3827-1630749600-1630769400@tuindees.nl
SUMMARY:Bijenwas cursusdag
DESCRIPTION:Bijenwas cursusdag: meebewegen met het seizoen \n\n4 uur cursus met theorie\, demonstraties en zelf maken.\ndrankjes\, gezonde snacks en 3-gangen lunch\, bereid met de tuinderij oogst\nrondleiding in de tuinderij door de tuinder zelf\n\nWat kun je verwachten in de cursus? \nInspirerende visie en achtergrond kennis over bijenwas; hoe het ontstaat\, de eigenschappen en het gebruik daarvan. \nHet zelf werken met het heerlijk geurende en zachte materiaal – recepten\, hand-outs voor het maken van \n\nBijenwas-doekjes die plastic folie vervangen in je huishouden.\nNatuurlijke geurende kaarsen met gebruik van etherische oliën\, voor sfeer in huis.\nVerzorgingsproducten zoals deodorant en balsem met gebruik van vers geplukte kruiden en etherische oliën.\n\nElselien kookt als retraite chef voor groepen tijdens creatieve en welzijns weken in Europa. En heeft zich gespecialiseerd in het plantaardig koken naar het seizoen; de gasten een gevarieerd weekmenu te bieden dat inspirerend\, licht en voedzaam voelt. Zij bereidt de lunch met de oogst uit de tuin tijdens de dag. In de cursus deelt ze haar kennis en ervaring met het maken van sfeer- en verzorgingsproducten met bijenwas. \nMeer info en tickets
URL:https://tuindees.nl/evenement/bijenwas-cursusdag/
LOCATION:Tuinderij de Es\, Eind 19c\, Haaren\, 5076TD\, Nederland
END:VEVENT
BEGIN:VEVENT
DTSTART;VALUE=DATE:20210912
DTEND;VALUE=DATE:20210913
DTSTAMP:20260421T124634
CREATED:20201207T203345Z
LAST-MODIFIED:20201207T203345Z
UID:2620-1631404800-1631491199@tuindees.nl
SUMMARY:Portiehoudersdag (besloten)
DESCRIPTION:
URL:https://tuindees.nl/evenement/portiehoudersdag-besloten/
LOCATION:Tuinderij de Es\, Eind 19c\, Haaren\, 5076TD\, Nederland
END:VEVENT
BEGIN:VEVENT
DTSTART;VALUE=DATE:20210918
DTEND;VALUE=DATE:20210919
DTSTAMP:20260421T124634
CREATED:20210612T114417Z
LAST-MODIFIED:20210612T114555Z
UID:3671-1631923200-1632009599@tuindees.nl
SUMMARY:Cursus Composteren kan je leren
DESCRIPTION:Compost is cruciaal om de bodem van moestuin en siertuin levend en gezond te houden; het bevat veel organische stof en voeding voor de bodembeestjes. Maar goede compost maken is een kunst. Dat is te leren op de eendaagse praktijkcursus “Composteren kan je leren”. VELT docente Ineke Barten verzorgt de cursus. \n\n\nHet theoretische deel in de ochtend behandelt de basisregels voor het maken van compost\, wat mag er wel en niet op en hoe je een composthoop opzet. Maar ook hoe gebruik je compost in je tuin en welke verschillende manieren van composteren zijn er.\n’s Middags gaan we zelf actief aan de slag met het opzetten van de ideale composthoop: het stapelen met ‘bruin’ en ‘groen’ materiaal vanuit de wachthopen tot een mooie ‘lasagna’.\n\nInloop vanaf 9.30 uur met koffie\, start cursus 10.00 uur\, lunch 12.30 – 13.30 uur\, einde is rond 16.00 uur. Lunch is inbegrepen; eventuele dieeteisen graag bij aanmelding vermelden.\n\nDeze cursus organiseren we samen met VELT\, afdeling Den Bosch. Aanmelden kan alleen via info@veltdenbosch.nl\n\nDocent: Ineke Barten\nPrijs: 34\,00 voor Velt-leden\, 50\,00 voor niet Velt-leden
URL:https://tuindees.nl/evenement/cursus-composteren-kan-je-leren-3/
LOCATION:Tuinderij de Es\, Eind 19c\, Haaren\, 5076TD\, Nederland
ORGANIZER;CN="VELT afdeling Den Bosch":MAILTO:info@veltdenbosch.nl
END:VEVENT
END:VCALENDAR